BEGIN:VCALENDAR
VERSION:2.0
PRODID:-//Melton Motor Sports Club Inc. - ECPv6.15.12.2//NONSGML v1.0//EN
CALSCALE:GREGORIAN
METHOD:PUBLISH
X-ORIGINAL-URL:https://www.mmsc.net.au
X-WR-CALDESC:Events for Melton Motor Sports Club Inc.
REFRESH-INTERVAL;VALUE=DURATION:PT1H
X-Robots-Tag:noindex
X-PUBLISHED-TTL:PT1H
BEGIN:VTIMEZONE
TZID:Australia/Melbourne
BEGIN:STANDARD
TZOFFSETFROM:+1100
TZOFFSETTO:+1000
TZNAME:AEST
DTSTART:20190406T160000
END:STANDARD
BEGIN:DAYLIGHT
TZOFFSETFROM:+1000
TZOFFSETTO:+1100
TZNAME:AEDT
DTSTART:20191005T160000
END:DAYLIGHT
BEGIN:STANDARD
TZOFFSETFROM:+1100
TZOFFSETTO:+1000
TZNAME:AEST
DTSTART:20200404T160000
END:STANDARD
BEGIN:DAYLIGHT
TZOFFSETFROM:+1000
TZOFFSETTO:+1100
TZNAME:AEDT
DTSTART:20201003T160000
END:DAYLIGHT
BEGIN:STANDARD
TZOFFSETFROM:+1100
TZOFFSETTO:+1000
TZNAME:AEST
DTSTART:20210403T160000
END:STANDARD
BEGIN:DAYLIGHT
TZOFFSETFROM:+1000
TZOFFSETTO:+1100
TZNAME:AEDT
DTSTART:20211002T160000
END:DAYLIGHT
BEGIN:STANDARD
TZOFFSETFROM:+1100
TZOFFSETTO:+1000
TZNAME:AEST
DTSTART:20220402T160000
END:STANDARD
BEGIN:DAYLIGHT
TZOFFSETFROM:+1000
TZOFFSETTO:+1100
TZNAME:AEDT
DTSTART:20221001T160000
END:DAYLIGHT
END:VTIMEZONE
BEGIN:VEVENT
DTSTART;TZID=Australia/Melbourne:20210119T190000
DTEND;TZID=Australia/Melbourne:20210119T210000
DTSTAMP:20260419T223844
CREATED:20210113T083806Z
LAST-MODIFIED:20210113T083806Z
UID:318-1611082800-1611090000@www.mmsc.net.au
SUMMARY:Monthly Club Meeting
DESCRIPTION:Taking into account the current climate with COVID. \nThe first meeting for 2021 will be held outdoors at Hannah Watts Park.
URL:https://www.mmsc.net.au/event-calendar/monthly-club-meeting/
LOCATION:Hannah Watts Park\, High Street\, Melton\, Victoria\, 3337\, Australia
END:VEVENT
BEGIN:VEVENT
DTSTART;VALUE=DATE:20201220
DTEND;VALUE=DATE:20201221
DTSTAMP:20260419T223844
CREATED:20191226T111510Z
LAST-MODIFIED:20201217T121846Z
UID:97-1608422400-1608508799@www.mmsc.net.au
SUMMARY:Multi Club Khanacross
DESCRIPTION:
URL:https://www.mmsc.net.au/event-calendar/club-christmas-break-up/
LOCATION:RallyDrive Complex\, Nerowie Rd & Parwan South Road\, Parwan\, Victoria\, 3340
END:VEVENT
BEGIN:VEVENT
DTSTART;TZID=Australia/Melbourne:20201124T190000
DTEND;TZID=Australia/Melbourne:20201124T220000
DTSTAMP:20260419T223844
CREATED:20191226T111225Z
LAST-MODIFIED:20201123T083011Z
UID:95-1606244400-1606255200@www.mmsc.net.au
SUMMARY:Monthly Meeting
DESCRIPTION:
URL:https://www.mmsc.net.au/event-calendar/monthly-meeting-agm/
LOCATION:Melton Automotive\, 10 Holland Drive\, Melton\, Vic\, 3337\, Australia
END:VEVENT
BEGIN:VEVENT
DTSTART;VALUE=DATE:20201114
DTEND;VALUE=DATE:20201116
DTSTAMP:20260419T223844
CREATED:20200929T093543Z
LAST-MODIFIED:20200929T093602Z
UID:159-1605312000-1605484799@www.mmsc.net.au
SUMMARY:Multi-Club Autocross
DESCRIPTION:
URL:https://www.mmsc.net.au/event-calendar/multi-club-autocross/
LOCATION:RallyDrive Complex\, Nerowie Rd & Parwan South Road\, Parwan\, Victoria\, 3340
END:VEVENT
BEGIN:VEVENT
DTSTART;TZID=Australia/Melbourne:20201027T200000
DTEND;TZID=Australia/Melbourne:20201027T220000
DTSTAMP:20260419T223844
CREATED:20191226T111136Z
LAST-MODIFIED:20191226T111136Z
UID:93-1603828800-1603836000@www.mmsc.net.au
SUMMARY:Monthly Meeting
DESCRIPTION:
URL:https://www.mmsc.net.au/event-calendar/monthly-meeting-10/
LOCATION:Melton Country Club\, 28-30 Reserve Rd\, Melton\, Victoria\, 3337
END:VEVENT
BEGIN:VEVENT
DTSTART;TZID=Australia/Melbourne:20200929T200000
DTEND;TZID=Australia/Melbourne:20200929T220000
DTSTAMP:20260419T223844
CREATED:20191226T111112Z
LAST-MODIFIED:20191226T111112Z
UID:91-1601409600-1601416800@www.mmsc.net.au
SUMMARY:Monthly Meeting
DESCRIPTION:
URL:https://www.mmsc.net.au/event-calendar/monthly-meeting-9/
LOCATION:Melton Country Club\, 28-30 Reserve Rd\, Melton\, Victoria\, 3337
END:VEVENT
BEGIN:VEVENT
DTSTART;TZID=Australia/Melbourne:20200825T200000
DTEND;TZID=Australia/Melbourne:20200825T220000
DTSTAMP:20260419T223844
CREATED:20191226T111028Z
LAST-MODIFIED:20191226T111028Z
UID:89-1598385600-1598392800@www.mmsc.net.au
SUMMARY:Monthly Meeting
DESCRIPTION:
URL:https://www.mmsc.net.au/event-calendar/monthly-meeting-8/
LOCATION:Melton Country Club\, 28-30 Reserve Rd\, Melton\, Victoria\, 3337
END:VEVENT
BEGIN:VEVENT
DTSTART;TZID=Australia/Melbourne:20200728T200000
DTEND;TZID=Australia/Melbourne:20200728T220000
DTSTAMP:20260419T223844
CREATED:20191226T111002Z
LAST-MODIFIED:20191226T111002Z
UID:87-1595966400-1595973600@www.mmsc.net.au
SUMMARY:Monthly Meeting
DESCRIPTION:
URL:https://www.mmsc.net.au/event-calendar/monthly-meeting-7/
LOCATION:Melton Country Club\, 28-30 Reserve Rd\, Melton\, Victoria\, 3337
END:VEVENT
BEGIN:VEVENT
DTSTART;TZID=Australia/Melbourne:20200630T200000
DTEND;TZID=Australia/Melbourne:20200630T220000
DTSTAMP:20260419T223844
CREATED:20191226T085805Z
LAST-MODIFIED:20191226T085805Z
UID:85-1593547200-1593554400@www.mmsc.net.au
SUMMARY:Monthly Meeting
DESCRIPTION:
URL:https://www.mmsc.net.au/event-calendar/monthly-meeting-6/
LOCATION:Melton Country Club\, 28-30 Reserve Rd\, Melton\, Victoria\, 3337
END:VEVENT
BEGIN:VEVENT
DTSTART;TZID=Australia/Melbourne:20200526T200000
DTEND;TZID=Australia/Melbourne:20200526T220000
DTSTAMP:20260419T223844
CREATED:20191226T085719Z
LAST-MODIFIED:20191226T085719Z
UID:83-1590523200-1590530400@www.mmsc.net.au
SUMMARY:Monthly Meeting
DESCRIPTION:
URL:https://www.mmsc.net.au/event-calendar/monthly-meeting-5/
LOCATION:Melton Country Club\, 28-30 Reserve Rd\, Melton\, Victoria\, 3337
END:VEVENT
BEGIN:VEVENT
DTSTART;TZID=Australia/Melbourne:20200428T200000
DTEND;TZID=Australia/Melbourne:20200428T220000
DTSTAMP:20260419T223844
CREATED:20191226T085631Z
LAST-MODIFIED:20191226T085631Z
UID:81-1588104000-1588111200@www.mmsc.net.au
SUMMARY:Monthly Meeting
DESCRIPTION:
URL:https://www.mmsc.net.au/event-calendar/monthly-meeting-4/
LOCATION:Melton Country Club\, 28-30 Reserve Rd\, Melton\, Victoria\, 3337
END:VEVENT
BEGIN:VEVENT
DTSTART;TZID=Australia/Melbourne:20200331T200000
DTEND;TZID=Australia/Melbourne:20200331T220000
DTSTAMP:20260419T223844
CREATED:20191226T084632Z
LAST-MODIFIED:20191226T084632Z
UID:79-1585684800-1585692000@www.mmsc.net.au
SUMMARY:Monthly Meeting
DESCRIPTION:
URL:https://www.mmsc.net.au/event-calendar/monthly-meeting-3/
LOCATION:Melton Country Club\, 28-30 Reserve Rd\, Melton\, Victoria\, 3337
END:VEVENT
BEGIN:VEVENT
DTSTART;TZID=Australia/Melbourne:20200329T080000
DTEND;TZID=Australia/Melbourne:20200329T170000
DTSTAMP:20260419T223844
CREATED:20200312T014213Z
LAST-MODIFIED:20200312T014213Z
UID:134-1585468800-1585501200@www.mmsc.net.au
SUMMARY:Parwan Working Bee
DESCRIPTION:The club is holding a working bee to get the track prepared for our upcoming VCAS round. \nplease advise of your attendance so as we can maximise the time there.
URL:https://www.mmsc.net.au/event-calendar/parwan-working-bee/
LOCATION:RallyDrive Complex\, Nerowie Rd & Parwan South Road\, Parwan\, Victoria\, 3340
END:VEVENT
BEGIN:VEVENT
DTSTART;TZID=Australia/Melbourne:20200225T200000
DTEND;TZID=Australia/Melbourne:20200225T220000
DTSTAMP:20260419T223844
CREATED:20191226T084605Z
LAST-MODIFIED:20191226T084605Z
UID:77-1582660800-1582668000@www.mmsc.net.au
SUMMARY:Monthly Meeting
DESCRIPTION:
URL:https://www.mmsc.net.au/event-calendar/monthly-meeting-2/
LOCATION:Melton Country Club\, 28-30 Reserve Rd\, Melton\, Victoria\, 3337
CATEGORIES:Club Meetings
END:VEVENT
BEGIN:VEVENT
DTSTART;VALUE=DATE:20200222
DTEND;VALUE=DATE:20200223
DTSTAMP:20260419T223844
CREATED:20191225T141102Z
LAST-MODIFIED:20191225T141102Z
UID:72-1582329600-1582415999@www.mmsc.net.au
SUMMARY:George Woods Introductory Trial
DESCRIPTION:
URL:https://www.mmsc.net.au/event-calendar/george-woods-introductory-trial/
LOCATION:Victoria
END:VEVENT
BEGIN:VEVENT
DTSTART;TZID=Australia/Melbourne:20200208T190000
DTEND;TZID=Australia/Melbourne:20200208T220000
DTSTAMP:20260419T223844
CREATED:20191225T015113Z
LAST-MODIFIED:20191225T015113Z
UID:34-1581188400-1581199200@www.mmsc.net.au
SUMMARY:Rally Presentation Dinner
DESCRIPTION:
URL:https://www.mmsc.net.au/event-calendar/rally-presentation-dinner/
LOCATION:Victoria
END:VEVENT
BEGIN:VEVENT
DTSTART;TZID=Australia/Melbourne:20200128T200000
DTEND;TZID=Australia/Melbourne:20200128T220000
DTSTAMP:20260419T223844
CREATED:20191226T072116Z
LAST-MODIFIED:20191226T072116Z
UID:74-1580241600-1580248800@www.mmsc.net.au
SUMMARY:Monthly Meeting
DESCRIPTION:
URL:https://www.mmsc.net.au/event-calendar/monthly-meeting/
LOCATION:Melton Country Club\, 28-30 Reserve Rd\, Melton\, Victoria\, 3337
END:VEVENT
END:VCALENDAR